BEGIN:VCALENDAR
VERSION:2.0
PRODID:-//Center for Excellence on Addiction - ECPv6.15.20//NONSGML v1.0//EN
CALSCALE:GREGORIAN
METHOD:PUBLISH
X-ORIGINAL-URL:https://nhcenterforexcellence.org
X-WR-CALDESC:Events for Center for Excellence on Addiction
REFRESH-INTERVAL;VALUE=DURATION:PT1H
X-Robots-Tag:noindex
X-PUBLISHED-TTL:PT1H
BEGIN:VTIMEZONE
TZID:America/New_York
BEGIN:DAYLIGHT
TZOFFSETFROM:-0500
TZOFFSETTO:-0400
TZNAME:EDT
DTSTART:20240310T070000
END:DAYLIGHT
BEGIN:STANDARD
TZOFFSETFROM:-0400
TZOFFSETTO:-0500
TZNAME:EST
DTSTART:20241103T060000
END:STANDARD
BEGIN:DAYLIGHT
TZOFFSETFROM:-0500
TZOFFSETTO:-0400
TZNAME:EDT
DTSTART:20250309T070000
END:DAYLIGHT
BEGIN:STANDARD
TZOFFSETFROM:-0400
TZOFFSETTO:-0500
TZNAME:EST
DTSTART:20251102T060000
END:STANDARD
BEGIN:DAYLIGHT
TZOFFSETFROM:-0500
TZOFFSETTO:-0400
TZNAME:EDT
DTSTART:20260308T070000
END:DAYLIGHT
BEGIN:STANDARD
TZOFFSETFROM:-0400
TZOFFSETTO:-0500
TZNAME:EST
DTSTART:20261101T060000
END:STANDARD
END:VTIMEZONE
BEGIN:VEVENT
DTSTART;TZID=America/New_York:20250605T100000
DTEND;TZID=America/New_York:20250605T113000
DTSTAMP:20260421T125014
CREATED:20250523T132136Z
LAST-MODIFIED:20251118T212949Z
UID:10000557-1749117600-1749123000@nhcenterforexcellence.org
SUMMARY:Governor’s Commission on Alcohol and Other Drugs – Coordination and Cooperation Task Force Meeting
DESCRIPTION:CANCELED: C&C Task Force meetings are open to the public. Virtual attendance is encouraged. Please register here for the Zoom meeting information.
URL:https://nhcenterforexcellence.org/event/governors-commission-on-alcohol-and-other-drugs-coordination-and-cooperation-task-force-meeting-10-3/
LOCATION:501 South Street\, Bow\, NH\, 501 South Street\, Bow\, NH\, United States
CATEGORIES:Coordination and Cooperation Task Force,Governor’s Commission on Addiction, Treatment, and Prevention
ATTACH;FMTTYPE=image/png:https://nhcenterforexcellence.org/wp-content/uploads/2022/08/gc_logo-e1662060792263.png
END:VEVENT
BEGIN:VEVENT
DTSTART;TZID=America/New_York:20250627T093000
DTEND;TZID=America/New_York:20250627T113000
DTSTAMP:20260421T125014
CREATED:20241213T201020Z
LAST-MODIFIED:20241213T201024Z
UID:10000570-1751016600-1751023800@nhcenterforexcellence.org
SUMMARY:Governor’s Commission on Alcohol and Other Drugs Meeting
DESCRIPTION:Commission meetings are open to the public.
URL:https://nhcenterforexcellence.org/event/governors-commission-on-alcohol-and-other-drugs-meeting-12/
LOCATION:Executive Council Chamber at the State House\, 107 North Main Street\, Concord\, NH\, 03301\, United States
CATEGORIES:Governor’s Commission on Addiction, Treatment, and Prevention
ATTACH;FMTTYPE=image/png:https://nhcenterforexcellence.org/wp-content/uploads/2024/12/Screenshot-2024-12-13-at-1.44.07 PM.png
END:VEVENT
END:VCALENDAR